BEGIN:VCALENDAR
VERSION:2.0
PRODID:-//Library Market//iCal Export//EN
BEGIN:VEVENT
SUMMARY:Bubble Tea for Teens
UID:5892
DTSTAMP:20260426T033000Z
DTSTART:20260624T200000Z
DTEND:20260624T220000Z
LOCATION:Delafield Public Library, 500 Genesee St, Delafield, WI 53018, Un
 ited States
ROOM: Program Room
DESCRIPTION:A hands-on Boba Mixology Experience from Idyllic Bubble Tea Ho
 use. Explore the culture and history behind bubble tea while creating you
 r own delicious, one-of-a-kind drink combinations using four unique tea ba
 ses, authentic premium toppings, and a variety of boba.Ages 12-18. Registr
 ation is required. Space is limited. Please let us know of any allergens o
 r food restrictions you may have!Sponsored by Bridges Library System   
   
URL:https://delafield.librarycalendar.com/event/bubble-tea-teens-5892
END:VEVENT
END:VCALENDAR
