BEGIN:VCALENDAR
VERSION:2.0
PRODID:-//Library Market//iCal Export//EN
BEGIN:VEVENT
SUMMARY:Music in the Garden: Ryan Meisel
UID:5886
DTSTAMP:20260425T224900Z
DTSTART:20260626T183000Z
DTEND:20260626T193000Z
LOCATION:500 Genesee Street, Delafield, WI 53018, United States
ROOM: Garden / Parking Lot
DESCRIPTION:Musician Ryan Meisel will enchant our garden space with instru
 ments from all around the world. We&#039;ll be outside, so you are welcome
  to bring a blanket and a picnic lunch.No registration necessary. For incl
 ement weather, we will move the concert inside. Thank you to the Friends 
 of the Delafield Public Library for sponsoring this event.    
URL:https://delafield.librarycalendar.com/event/music-garden-ryan-meisel-5
 886
END:VEVENT
END:VCALENDAR
