BEGIN:VCALENDAR
VERSION:2.0
PRODID:-//Library Market//iCal Export//EN
BEGIN:VEVENT
SUMMARY:Dungeons &amp; Dragons One-Shot
UID:5879
DTSTAMP:20260425T231000Z
DTSTART:20260620T190000Z
DTEND:20260620T210000Z
LOCATION:500 Genesee Street, Delafield, WI 53018, United States
ROOM: Common Council Chambers
DESCRIPTION:Bring a character or use one of ours in this D&amp;D one-shot 
 adventure. All skill levels welcomeAdults and teens ages 12 and up.Please 
 register.     
URL:https://delafield.librarycalendar.com/event/dungeons-dragons-one-shot-
 5879
END:VEVENT
END:VCALENDAR
