BEGIN:VCALENDAR
VERSION:2.0
PRODID:-//Library Market//iCal Export//EN
BEGIN:VEVENT
SUMMARY:Create Dinosaur Art with Nature
UID:5878
DTSTAMP:20260425T224900Z
DTSTART:20260618T150000Z
DTEND:20260618T163000Z
LOCATION:500 Genesee Street, Delafield, WI 53018, United States
ROOM: Garden / Parking Lot
DESCRIPTION:Children and adults are welcome to create art using found natu
 ral elements provided by volunteers from the Pewaukee Area Arts Council. T
 his year we&#039;ll be making dinosaurs!No registration necessary.    
  
URL:https://delafield.librarycalendar.com/event/create-dinosaur-art-nature
 -5878
END:VEVENT
END:VCALENDAR
