BEGIN:VCALENDAR
VERSION:2.0
PRODID:-//Library Market//iCal Export//EN
BEGIN:VEVENT
SUMMARY:Weekly In-Library Activity: Color a Dinosaur Egg
UID:5871
DTSTAMP:20260425T231000Z
DTSTART:20260622T050000Z
DTEND:20260628T050000Z
LOCATION:Delafield Public Library, 500 Genesee St, Delafield, WI 53018, Un
 ited States
ROOM: Library Lobby
DESCRIPTION:Drop in anytime to color a dinosaur egg to be displayed in the
  Children&#039;s Library.Then show your completed activity to a librarian 
 in exchange for a voting token.     
URL:https://delafield.librarycalendar.com/event/weekly-library-activity-co
 lor-dinosaur-egg-5871
END:VEVENT
END:VCALENDAR
