BEGIN:VCALENDAR
VERSION:2.0
PRODID:-//Library Market//iCal Export//EN
BEGIN:VEVENT
SUMMARY:Weekly In-Library Activity: Decode a Message
UID:5870
DTSTAMP:20260426T033000Z
DTSTART:20260615T050000Z
DTEND:20260621T050000Z
LOCATION:Delafield Public Library, 500 Genesee St, Delafield, WI 53018, Un
 ited States
ROOM: Library Lobby
DESCRIPTION:Drop in anytime to decode a secret message at our activity tab
 le.Then show your completed activity to a librarian in exchange for a voti
 ng token.     
URL:https://delafield.librarycalendar.com/event/weekly-library-activity-de
 code-message-5870
END:VEVENT
END:VCALENDAR
