BEGIN:VCALENDAR
VERSION:2.0
PRODID:-//Library Market//iCal Export//EN
BEGIN:VEVENT
SUMMARY:Marvelous Michelle (Bubbles)
UID:5866
DTSTAMP:20260425T231000Z
DTSTART:20260622T190000Z
DTEND:20260622T200000Z
LOCATION:500 Genesee Street, Delafield, WI 53018, United States
ROOM: Common Council Chambers
DESCRIPTION:Enjoy a delightful performance with bubbles of all kinds, from
  large to small. Kids may even get the chance to stand inside a giant bubb
 le!Free tickets given out 30 minutes prior to the event.     
URL:https://delafield.librarycalendar.com/event/marvelous-michelle-bubbles
 -5866
END:VEVENT
END:VCALENDAR
