BEGIN:VCALENDAR
VERSION:2.0
PRODID:-//Library Market//iCal Export//EN
BEGIN:VEVENT
SUMMARY:Mark Hayward (Yo-Yos)
UID:5864
DTSTAMP:20260425T231000Z
DTSTART:20260615T190000Z
DTEND:20260615T200000Z
LOCATION:500 Genesee Street, Delafield, WI 53018, United States
ROOM: Common Council Chambers
DESCRIPTION:In this fun and witty show for all ages, Mark dazzles with pro
 ps such as yo-yos, tops, juggling equipment, and even a mousetrap!Mark Hay
 ward has been a variety arts performer since 1990. He is a World Yo-yo Cha
 mpion, a member of a World Champion Juggling Team, and a 2-time US Nationa
 l Spin Top Champion. Mark has traveled the world with a yo-yo on his finge
 r (well, mostly in his pocket), and has made appearances on The Late Show 
 with David Letterman (twice), The Late Late Show with James Corden, Americ
 a’s Got Talent, and the NBC Nightly News (without committing a crime). 
 Free tickets given out 30 minutes prior to the event.Sponsored by Bridges 
 Library System       
URL:https://delafield.librarycalendar.com/event/mark-hayward-yo-yos-5864
END:VEVENT
END:VCALENDAR
