BEGIN:VCALENDAR
VERSION:2.0
PRODID:-//Library Market//iCal Export//EN
BEGIN:VEVENT
SUMMARY:William B. Cushing
UID:5834
DTSTAMP:20260424T231800Z
DTSTART:20260604T233000Z
DTEND:20260605T003000Z
LOCATION:500 Genesee Street, Delafield, WI 53018, United States
ROOM: Common Council Chambers
DESCRIPTION:Delafield-born William Cushing was the Rambo of the Civil War 
 U.S. Navy. He became world famous for sinking a rebel ironclad with a bomb
  at the end of a stick. Historian James Heinz will discuss William Cushin
 g&#039;s history and legacy in this engaging presentation.Please register.
URL:https://delafield.librarycalendar.com/event/william-b-cushing-5834
END:VEVENT
END:VCALENDAR
